BEGIN:VCALENDAR
VERSION:2.0
PRODID:DPCALENDAR
CALSCALE:GREGORIAN
BEGIN:VTIMEZONE
TZID:Europe/Berlin
X-MICROSOFT-CDO-TZID:4
BEGIN:STANDARD
DTSTART:20251026T010000
TZOFFSETFROM:+0200
TZOFFSETTO:+0100
TZNAME:CET
END:STANDARD
BEGIN:STANDARD
DTSTART:20261025T010000
TZOFFSETFROM:+0200
TZOFFSETTO:+0100
TZNAME:CET
END:STANDARD
BEGIN:DAYLIGHT
DTSTART:20260329T010000
TZOFFSETFROM:+0100
TZOFFSETTO:+0200
TZNAME:CEST
END:DAYLIGHT
END:VTIMEZONE
X-WR-TIMEZONE:Europe/Berlin
BEGIN:VEVENT
DTSTART;TZID=Europe/Berlin:20240727T100000
DTEND;TZID=Europe/Berlin:20240803T110000
UID:D98D4364-72F9-4E69-8B15-7767ACCBCA6F
SUMMARY:Familienfreizeit „Sommercamp“
CREATED:20231127T063528Z
DTSTAMP:20231127T063528Z
URL:https://www.naturfreunde-lauf.de/veranstaltungen/kalender/familienfreizeit-sommercamp
DESCRIPTION:Näheres unter:\Nwww.bayern.naturfreundejugend.de/termine
X-ALT-DESC;FMTTYPE=text/html:<p>Näheres unter:</p>\N<p><a href="http://www.bayern.naturfreundejugend.de/termine">www.bayern.naturfreundejugend.de/termine</a></p>
LAST-MODIFIED:20240127T014303Z
SEQUENCE:5252855
X-ACCESS:1
X-HITS:0
X-COLOR:3366cc
X-SHOW-END-TIME:1
END:VEVENT
BEGIN:VEVENT
DTSTART;TZID=Europe/Berlin:20240803T100000
DTEND;TZID=Europe/Berlin:20240810T110000
UID:1F45B82C-66FE-4ABA-BE71-51108CA2E1A1
SUMMARY:Kinderfreizeit Abenteuerwoche am Rechenberghaus in Bad Grönenbach
CREATED:20231127T063802Z
DTSTAMP:20231127T063802Z
URL:https://www.naturfreunde-lauf.de/veranstaltungen/kalender/kinderfreizeit-abenteuerwoche-am-rechenberghaus-in-bad-groenenbach
DESCRIPTION:www.naturfreundejugend.de/termine
X-ALT-DESC;FMTTYPE=text/html:<p><a href="http://www.naturfreundejugend.de/termine">www.naturfreundejugend.de/termine</a></p>
LAST-MODIFIED:20240127T014843Z
SEQUENCE:5253041
X-ACCESS:1
X-HITS:0
X-COLOR:3366cc
X-SHOW-END-TIME:1
END:VEVENT
BEGIN:VEVENT
DTSTART;VALUE=DATE:20251108
DTEND;VALUE=DATE:20251109
UID:B9A71E74-4DE5-40B1-8785-CDAC882054D3
SUMMARY:Familiennachmittag Upcycling
CREATED:20241113T205245Z
DTSTAMP:20241113T205245Z
URL:https://www.naturfreunde-lauf.de/veranstaltungen/kalender/familiennachmittag-upcycling
DESCRIPTION:Unter der Anleitung unserer Jugendleiter*innen basteln wir aus alten Kletterseilen Schlüsselanhänger / Schlüsselbänder. Außerdem kann man eigene Taschen, T-Shirts und Accessoires mitbringen, die man mit dem Seilmaterial verschönert.🪡🧵📍✂️Darüber hinaus basteln wir aus Teebeutel-Verpackungs-Papieren Weihnachtssterne. ✨\NEs gibt Kaffee & Kuchen und insgesamt wird's einfach ein cozy Herbst-Nachmittag auf der Hütte 🍂🍁🪁\NAnmeldung: nfj.lauf@gmail.com \NFalls es am Samstag nicht geht, könnt ihr natürlich aber gern auch am Sonntag zu Kaffee und Kuchen kommen, die Jugend hat Hüttendienst 🍰☕😊
X-ALT-DESC;FMTTYPE=text/html:<p>Unter der Anleitung unserer Jugendleiter*innen basteln wir aus alten Kletterseilen Schlüsselanhänger / Schlüsselbänder. Außerdem kann man eigene Taschen, T-Shirts und Accessoires mitbringen, die man mit dem Seilmaterial verschönert.🪡🧵📍✂️<br />Darüber hinaus basteln wir aus Teebeutel-Verpackungs-Papieren Weihnachtssterne. ✨</p>\N<p>Es gibt Kaffee &amp; Kuchen und insgesamt wird's einfach ein cozy Herbst-Nachmittag auf der Hütte 🍂🍁🪁</p>\N<p>Anmeldung: nfj.lauf@gmail.com </p>\N<p>Falls es am Samstag nicht geht, könnt ihr natürlich aber gern auch am Sonntag zu Kaffee und Kuchen kommen, die Jugend hat Hüttendienst 🍰☕😊</p>
LAST-MODIFIED:20251106T092716Z
SEQUENCE:30890071
X-ACCESS:1
X-HITS:0
X-COLOR:3366cc
X-IMAGE-FULL:https://www.naturfreunde-lauf.de/images/events/4dc850eb-e6fa-47d3-afce-c13510a20009.jpg
X-IMAGE-INTRO:https://www.naturfreunde-lauf.de/images/events/4dc850eb-e6fa-47d3-afce-c13510a20009.jpg
X-SHOW-END-TIME:0
END:VEVENT
BEGIN:VEVENT
DTSTART;TZID=Europe/Berlin:20260509T140000
DTEND;TZID=Europe/Berlin:20260509T170000
UID:A9DF5715-C4C3-44FD-B61D-451D924141EE
SUMMARY:Familiennachmittag "Schnitzeljagd"
CREATED:20260113T090608Z
DTSTAMP:20260113T090608Z
URL:https://www.naturfreunde-lauf.de/veranstaltungen/kalender/familiennachmittag
DESCRIPTION:Rätselralley rund ums Naturfreundehaus. Kleine Detektiv*innen begeben sich auf Schnitzeljagd\NHabt ihr Lust, knifflige Rätsel zu lösen und verborgene Spuren zu entdecken? Unsere Jugendgruppe lädt euch herzlich zu einer abenteuerlichen Rätselrallye ein!\NWir verwandeln den Wald rund um unser Naturfreundehaus in ein Detektiv-Revier. Es wird spannend, lustig und wir verbringen gemeinsam eine tolle Zeit an der frischen Luft.\N \NAlle Infos auf einen Blick:\N•Wann? Samstag, 09. Mai 2026\N•Uhrzeit: 14:00 Uhr bis ca. 17:00 Uhr\N•Wo? Naturfreundehaus Lauf\N•Wer? Alle kleinen und großen Entdecker*innen mit oder ohne erwachsene Begleitung. Nichtmitglieder herzlich willkommen. \N \N📝 Anmeldung\NDamit wir besser planen können, meldet euch bitte per E-Mail an unter: nfj.lauf@gmail.com\NBitte gebt bei der Anmeldung folgende Infos an:\N\NName und Alter der teilnehmenden Kinder\NAnzahl der Begleitpersonen\NEventuelle Besonderheiten (z.B. Allergien), die wir wissen sollten.\N\NWir freuen uns auf euch und einen unvergesslichen Nachmittag!
X-ALT-DESC;FMTTYPE=text/html:<p><strong>Rätselralley rund ums Naturfreundehaus. Kleine Detektiv*innen begeben sich auf Schnitzeljagd</strong></p>\N<div>Habt ihr Lust, knifflige Rätsel zu lösen und verborgene Spuren zu entdecken? Unsere Jugendgruppe lädt euch herzlich zu einer abenteuerlichen Rätselrallye ein!</div>\N<div>Wir verwandeln den Wald rund um unser Naturfreundehaus in ein Detektiv-Revier. Es wird spannend, lustig und wir verbringen gemeinsam eine tolle Zeit an der frischen Luft.</div>\N<div> </div>\N<div><strong>Alle Infos auf einen Blick:</strong></div>\N<div>•Wann? Samstag, 09. Mai 2026</div>\N<div>•Uhrzeit: 14:00 Uhr bis ca. 17:00 Uhr</div>\N<div>•Wo? Naturfreundehaus Lauf</div>\N<div>•Wer? Alle kleinen und großen Entdecker*innen mit oder ohne erwachsene Begleitung. Nichtmitglieder herzlich willkommen. </div>\N<div> </div>\N<div>📝 <strong>Anmeldung</strong></div>\N<div>Damit wir besser planen können, meldet euch bitte per E-Mail an unter: <a href="mailto:nfj.lauf@gmail.com">nfj.lauf@gmail.com</a></div>\N<div>Bitte gebt bei der Anmeldung folgende Infos an:</div>\N<ol>\N<li>Name und Alter der teilnehmenden Kinder</li>\N<li>Anzahl der Begleitpersonen</li>\N<li>Eventuelle Besonderheiten (z.B. Allergien), die wir wissen sollten.</li>\N</ol>\N<div><strong>Wir freuen uns auf euch und einen unvergesslichen Nachmittag!</strong></div>
LAST-MODIFIED:20260418T081001Z
SEQUENCE:8204633
LOCATION:91220 Schnaittach\, Bayern\, Deutschland
GEO:49.60944040;11.39084100
X-LOCATION-DISPLAYNAME:Naturfreundehaus Hormersdorf
X-ACCESS:1
X-HITS:0
X-COLOR:3366cc
X-SHOW-END-TIME:1
END:VEVENT
BEGIN:VEVENT
DTSTART;TZID=Europe/Berlin:20260612T170000
DTEND;TZID=Europe/Berlin:20260614T140000
UID:26EA487A-DCD7-4B1D-9246-E0E939901DFC
SUMMARY:Elternfreies Kletterwochenende
CREATED:20260113T122822Z
DTSTAMP:20260113T122822Z
URL:https://www.naturfreunde-lauf.de/veranstaltungen/kalender/elternfreies-kletterwochenende
DESCRIPTION:Kinder von 8 bis 13 Jahren gehen gemeinsam die Felsen im Frankenjura unsicher machen. OhNee Eltern und mit viel Spaß!\NBereit für ein luftiges Abenteuer? Kinder von 8 bis 13 Jahren machen gemeinsam die Felsen der Fränkischen Schweiz unsicher. Egal ob erfahrene Gipfelstürmerin oder mutiger Anfänger, hier bist du genau richtig. Übernachtet wird im Naturfreundehaus Hormersdorf. Abends gibt es freie Zeit für Spiele, Lagerfeuer und Stockbrot. Gemeinsam mit den Teamer*innen kochen wir Nudeln und backen Pizza. Bist du dabei?\NProgramm für Kinder von Kindern & jungen ErwachsenenDas Elternfreie Kletterwochenende planen Kinder der Ortsgruppe Nürnberg Mitte gemeinsam mit jungen erwachsenen Teamer*innen & Kletter-Trainer*innen der Ortsgruppe Pommelsbrunn und der Ortsgruppe Lauf. Eine richtiges NaturFreundeJugend-Wochenende also.\NOrganisatorisches & AnmeldungDu hast Lust? Melde dich an!Mehr zur Teilnahmegebühr (ca. 70 Euro) und zum Organisatorischen erfährst du nach der Anmeldung. Diese erfolgt zentral über die Webseite der Ortsgruppe Nürnberg Mitte: https://naturfreunde-nuernberg-mitte.de/event/elternfreies-kletterwochenende/ \NHast du Fragen?Dann schreib gerne eine Mail an l.hrubesch(ät)nf-nbg-mitte.de\NAus Gründen der Versicherung musst du für eine Teilnahme Mitglied bei einer Ortsgruppe der NaturFreunde sein. Hier geht's zur Mitgliedschaft: https://www.naturfreunde-lauf.de/der-verein/mitglied-werden 
X-ALT-DESC;FMTTYPE=text/html:<p><strong>Kinder von 8 bis 13 Jahren gehen gemeinsam die Felsen im Frankenjura unsicher machen. OhNee Eltern und mit viel Spaß!</strong></p>\N<p>Bereit für ein luftiges Abenteuer? Kinder von 8 bis 13 Jahren machen gemeinsam die Felsen der Fränkischen Schweiz unsicher. Egal ob erfahrene Gipfelstürmerin oder mutiger Anfänger, hier bist du genau richtig. Übernachtet wird im Naturfreundehaus Hormersdorf. Abends gibt es freie Zeit für Spiele, Lagerfeuer und Stockbrot. Gemeinsam mit den Teamer*innen kochen wir Nudeln und backen Pizza. Bist du dabei?</p>\N<p><strong>Programm für Kinder von Kindern &amp; jungen Erwachsenen</strong><br />Das Elternfreie Kletterwochenende planen Kinder der Ortsgruppe Nürnberg Mitte gemeinsam mit jungen erwachsenen Teamer*innen &amp; Kletter-Trainer*innen der Ortsgruppe Pommelsbrunn und der Ortsgruppe Lauf. Eine richtiges NaturFreundeJugend-Wochenende also.</p>\N<p><strong>Organisatorisches &amp; Anmeldung</strong><br />Du hast Lust? Melde dich an!<br />Mehr zur Teilnahmegebühr (ca. 70 Euro) und zum Organisatorischen erfährst du nach der Anmeldung. Diese erfolgt zentral über die Webseite der Ortsgruppe Nürnberg Mitte: <a href="https://naturfreunde-nuernberg-mitte.de/event/elternfreies-kletterwochenende/">https://naturfreunde-nuernberg-mitte.de/event/elternfreies-kletterwochenende/</a> </p>\N<p><strong>Hast du Fragen?</strong><br />Dann schreib gerne eine Mail an l.hrubesch(ät)nf-nbg-mitte.de</p>\N<p>Aus Gründen der Versicherung musst du für eine Teilnahme Mitglied bei einer Ortsgruppe der NaturFreunde sein. Hier geht's zur Mitgliedschaft: <a href="der-verein/mitglied-werden">https://www.naturfreunde-lauf.de/der-verein/mitglied-werden</a> </p>
LAST-MODIFIED:20260212T214328Z
SEQUENCE:2625306
LOCATION:91220 Schnaittach\, Bayern\, Deutschland
GEO:49.60944040;11.39084100
X-LOCATION-DISPLAYNAME:Naturfreundehaus Hormersdorf
X-ACCESS:1
X-HITS:0
X-COLOR:3366cc
X-IMAGE-FULL:https://www.naturfreunde-lauf.de/images/IMG_20230802_134515.jpg
X-IMAGE-FULL-ALT:Eine Klettertrainerin hilft einem Kind beim Klettern am Fels.
X-IMAGE-INTRO:https://www.naturfreunde-lauf.de/images/IMG_20230802_134515.jpg
X-IMAGE-INTRO-ALT:Eine Klettertrainerin hilft einem Kind beim Klettern am Fels.
X-SHOW-END-TIME:1
END:VEVENT
BEGIN:VEVENT
DTSTART;VALUE=DATE:20260627
DTEND;VALUE=DATE:20260629
UID:3D1F930C-5DBF-42D6-9FE5-5AE497509FB6
SUMMARY:Laufer Altstadtfest
CREATED:20260113T091008Z
DTSTAMP:20260113T091008Z
URL:https://www.naturfreunde-lauf.de/veranstaltungen/kalender/laufer-altstadtfest
DESCRIPTION:Nach einem Jahr Pause gestalten wir wieder am Samstag und Sonntag den Familienbereich vor der Laufer Burg.\NKinder-Programm und schattiger Garten mit Kaffee und Kuchen als Angebot für alle, die mal eine Pause vom trubeligen Fest-Betrieb brauchen.\NZeiten etc. folgen in Kürze.
X-ALT-DESC;FMTTYPE=text/html:<p>Nach einem Jahr Pause gestalten wir wieder am Samstag und Sonntag den Familienbereich vor der Laufer Burg.</p>\N<p>Kinder-Programm und schattiger Garten mit Kaffee und Kuchen als Angebot für alle, die mal eine Pause vom trubeligen Fest-Betrieb brauchen.</p>\N<p>Zeiten etc. folgen in Kürze.</p>
LAST-MODIFIED:20260313T150447Z
SEQUENCE:5118879
X-ACCESS:1
X-HITS:0
X-COLOR:3366cc
X-SHOW-END-TIME:1
END:VEVENT
BEGIN:VEVENT
DTSTART;VALUE=DATE:20260801
DTEND;VALUE=DATE:20260809
UID:1E808107-33BC-4F04-84B6-DF7C5C35DE10
SUMMARY:Sommercamp
CREATED:20260113T123535Z
DTSTAMP:20260113T123535Z
URL:https://www.naturfreunde-lauf.de/veranstaltungen/kalender/sommercamp
DESCRIPTION:Natursport-Woche in Waidring: Klettern, Klettersteig, Canyoning, Kajakfahren für Anfänger*innen bis Fortgeschrittene.\NDer Landesverband Bayern bietet eine Sommerfreizeit mit Outdoorsportprogramm in den Bereichen Bergsport und Wassersport in Waidring an.\NOb Anfänger*innen oder Fortgeschrittene, ob mit Familie oder Freunden: Bei uns kannst du unter Anleitung von ausgebildeten Trainer*innen in die Sportarten Klettern, Klettersteig, Kajak, Riverbug oder Canyoning reinschnuppern und so erste Grundkenntnisse erwerben oder an deinen vorhandenen Fähigkeiten feilen.\NInfos und Anmeldung: https://www.naturfreunde.de/outdoorcampsommer
X-ALT-DESC;FMTTYPE=text/html:<p>Natursport-Woche in Waidring: Klettern, Klettersteig, Canyoning, Kajakfahren für Anfänger*innen bis Fortgeschrittene.</p>\N<p>Der Landesverband Bayern bietet eine Sommerfreizeit mit Outdoorsportprogramm in den Bereichen Bergsport und Wassersport in Waidring an.</p>\N<p>Ob Anfänger*innen oder Fortgeschrittene, ob mit Familie oder Freunden: Bei uns kannst du unter Anleitung von ausgebildeten Trainer*innen in die Sportarten Klettern, Klettersteig, Kajak, Riverbug oder Canyoning reinschnuppern und so erste Grundkenntnisse erwerben oder an deinen vorhandenen Fähigkeiten feilen.</p>\N<p>Infos und Anmeldung: https://www.naturfreunde.de/outdoorcampsommer</p>
LAST-MODIFIED:20260113T123535Z
SEQUENCE:0
LOCATION:Kirchgasse 3\, 6384 Waidring\, Tirol\, Österreich
GEO:47.58427050;12.56874210
X-LOCATION-DISPLAYNAME:Waidring
X-ACCESS:1
X-HITS:0
X-COLOR:3366cc
X-SHOW-END-TIME:1
END:VEVENT
BEGIN:VEVENT
DTSTART;TZID=Europe/Berlin:20260808T140000
DTEND;TZID=Europe/Berlin:20260817T100000
UID:ACA32712-E96D-455A-8FF7-6F8DE15F2095
SUMMARY:Abenteuerwoche 2026
CREATED:20260113T123334Z
DTSTAMP:20260113T123334Z
URL:https://www.naturfreunde-lauf.de/veranstaltungen/kalender/abenteuerwoche-2026
DESCRIPTION:Zeltlager in Friedberg-Wiffertshausen: Kletterwald, Paddeln, Nachtwanderung, Lagerfeuer & bunte Workshops für kleine Abenteurer*innen!\NKinder von 8 bis 14 Jahren zelten eine Woche lang am Naturfreundehaus Gründelmoos in Schwaben. Hier lernen die jungen NaturFreund*innen nicht nur Teamgeist bei der Olympiade absurder Spiele, die Gemeinschaft am Lagerfeuer und den Wert des Ökosystems Wald kennen. Bei Ausflügen in den Kletterwald und zum Paddeln aufs Wasser testen die Kinder ihren Mut. Outdooraktivitäten wie Wanderungen und Geländespiele bringen ihnen die Natur nah. \NInfos und Anmeldung bis 11.07.2026 unter https://widgets.yolawo.de/w/697db6aa97139d0445ed1455 
X-ALT-DESC;FMTTYPE=text/html:<p><strong>Zeltlager in Friedberg-Wiffertshausen: Kletterwald, Paddeln, Nachtwanderung, Lagerfeuer &amp; bunte Workshops für kleine Abenteurer*innen!</strong></p>\N<p>Kinder von 8 bis 14 Jahren zelten eine Woche lang am Naturfreundehaus Gründelmoos in Schwaben. Hier lernen die jungen NaturFreund*innen nicht nur Teamgeist bei der Olympiade absurder Spiele, die Gemeinschaft am Lagerfeuer und den Wert des Ökosystems Wald kennen. Bei Ausflügen in den Kletterwald und zum Paddeln aufs Wasser testen die Kinder ihren Mut. Outdooraktivitäten wie Wanderungen und Geländespiele bringen ihnen die Natur nah. </p>\N<p>Infos und Anmeldung bis 11.07.2026 unter <a href="https://widgets.yolawo.de/w/697db6aa97139d0445ed1455">https://widgets.yolawo.de/w/697db6aa97139d0445ed1455</a> </p>
LAST-MODIFIED:20260215T134801Z
SEQUENCE:2855667
LOCATION:Am Bahnholz 9\, 86316 Friedberg\, Bayern\, Deutschland
GEO:48.35318120;11.01764130
X-LOCATION-DISPLAYNAME:Naturfreundehaus Gründlmoos
X-ACCESS:1
X-HITS:0
X-COLOR:3366cc
X-IMAGE-FULL:https://www.naturfreunde-lauf.de/images/IMG_20250804_112624.jpg
X-IMAGE-FULL-ALT:Kinder in einem Kletterwald freuen sich auf das Abenteuer.
X-IMAGE-INTRO:https://www.naturfreunde-lauf.de/images/IMG_20250804_112624.jpg
X-IMAGE-INTRO-ALT:Kinder in einem Kletterwald freuen sich auf das Abenteuer.
X-SHOW-END-TIME:1
END:VEVENT
BEGIN:VEVENT
DTSTART;VALUE=DATE:20261024
DTEND;VALUE=DATE:20261025
UID:92BC5C51-AF64-4BDA-AE34-C78B1EB91B09
SUMMARY:Familiennachmittag "Kürbisse schnitzen"
CREATED:20260113T093158Z
DTSTAMP:20260113T093158Z
URL:https://www.naturfreunde-lauf.de/veranstaltungen/kalender/familiennachmittag-kuerbisse-schnitzen
DESCRIPTION:Gemeinsam bereiten wir uns beim Kürbis schnitzen auf Halloween vor.\NEltern, Omas, Opas etc. sind gerne willkommen. 
X-ALT-DESC;FMTTYPE=text/html:<p>Gemeinsam bereiten wir uns beim Kürbis schnitzen auf Halloween vor.</p>\N<p>Eltern, Omas, Opas etc. sind gerne willkommen. </p>
LAST-MODIFIED:20260113T111638Z
SEQUENCE:6280
X-ACCESS:1
X-HITS:0
X-COLOR:3366cc
X-SHOW-END-TIME:1
END:VEVENT
END:VCALENDAR